BEGIN:VCALENDAR
VERSION:2.0
PRODID:-//eventon.com NONSGML v1.0//EN
CALSCALE:GREGORIAN
METHOD:PUBLISH
BEGIN:VEVENT
UID:69e89d2fb0314
DTSTAMP:20260422T100431Z
DTSTART:20260510T180000Z
DTEND:20260510T183000Z
LOCATION:The Jungle Comedy Club Paketposthalle. Arnulfstraße 195-199
SUMMARY:Dark Comedy Special! (English) at Jungle Comedy Club
DESCRIPTION:DARK COMEDY with Big Heart! Are you someone who would rather la
 ugh than cry about the darkness? World politics got ya down?? JOIN US. You 
 won&#8217;t regret it! The world is dark but we can laugh about it! Modern 
 romance\,  aging\,  run-ins with the law\,  living abroad\,  world problems
  &#8212;[..]\nhttps://thejunglecomedyclub.com/events/dark-comedy-special-en
 glish/
URL:https://thejunglecomedyclub.com/events/dark-comedy-special-english/
END:VEVENT
END:VCALENDAR